﻿BEGIN:VCALENDAR
PRODID:-//146.185.150.6//NONSGML iCalcreator 2.6//
VERSION:2.0
BEGIN:VEVENT
UID:20260421T111122CEST-3637LufZur@146.185.150.6
DTSTAMP:20260421T091122Z
DESCRIPTION:
DTSTART:20110910T170000
DTEND:20110910T185500
LOCATION:
SUMMARY:Kategoria 1 2011-12 :Burreli - Ada
END:VEVENT
BEGIN:VEVENT
UID:20260421T111122CEST-3640spI4G6@146.185.150.6
DTSTAMP:20260421T091122Z
DESCRIPTION:
DTSTART:20110917T170000
DTEND:20110917T185500
LOCATION:
SUMMARY:Kategoria 1 2011-12 :Kukësi - Burreli
END:VEVENT
BEGIN:VEVENT
UID:20260421T111122CEST-3643e0FhVs@146.185.150.6
DTSTAMP:20260421T091122Z
DESCRIPTION:
DTSTART:20110924T170000
DTEND:20110924T185500
LOCATION:
SUMMARY:Kategoria 1 2011-12 :Burreli - Mamurras
END:VEVENT
BEGIN:VEVENT
UID:20260421T111122CEST-3645a0d97R@146.185.150.6
DTSTAMP:20260421T091122Z
DESCRIPTION:
DTSTART:20111001T160000
DTEND:20111001T175500
LOCATION:
SUMMARY:Kategoria 1 2011-12 :Vlora - Burreli
END:VEVENT
BEGIN:VEVENT
UID:20260421T111122CEST-3648i5oUtO@146.185.150.6
DTSTAMP:20260421T091122Z
DESCRIPTION:
DTSTART:20111008T160000
DTEND:20111008T175500
LOCATION:
SUMMARY:Kategoria 1 2011-12 :Burreli - Himara
END:VEVENT
BEGIN:VEVENT
UID:20260421T111122CEST-3651W9XLcm@146.185.150.6
DTSTAMP:20260421T091122Z
DESCRIPTION:Fusha Sportive Skrapar
DTSTART:20111015T150000
DTEND:20111015T165500
LOCATION:Skrapar\,
SUMMARY:Kategoria 1 2011-12 :Skrapari - Burreli
END:VEVENT
BEGIN:VEVENT
UID:20260421T111122CEST-3654NfLtDR@146.185.150.6
DTSTAMP:20260421T091122Z
DESCRIPTION:Fusha Sportive Skrapar
DTSTART:20111022T150000
DTEND:20111022T165500
LOCATION:Skrapar\,
SUMMARY:Kategoria 1 2011-12 :Burreli - Beselidhja
END:VEVENT
BEGIN:VEVENT
UID:20260421T111122CEST-3656MHc60v@146.185.150.6
DTSTAMP:20260421T091122Z
DESCRIPTION:Stadiumi
DTSTART:20111029T150000
DTEND:20111029T165500
LOCATION:Gjirokaster\,
SUMMARY:Kategoria 1 2011-12 :Luftetari - Burreli
END:VEVENT
BEGIN:VEVENT
UID:20260421T111122CEST-3659owhCwv@146.185.150.6
DTSTAMP:20260421T091122Z
DESCRIPTION:Stadiumi
DTSTART:20111105T150000
DTEND:20111105T165500
LOCATION:Gjirokaster\,
SUMMARY:Kategoria 1 2011-12 :Burreli - Lushnja
END:VEVENT
BEGIN:VEVENT
UID:20260421T111122CEST-36729Se5dG@146.185.150.6
DTSTAMP:20260421T091122Z
DESCRIPTION:Stadiumi
DTSTART:20111119T150000
DTEND:20111119T165500
LOCATION:Gjirokaster\,
SUMMARY:Kategoria 1 2011-12 :Butrinti - Burreli
END:VEVENT
BEGIN:VEVENT
UID:20260421T111122CEST-3676XcBfPj@146.185.150.6
DTSTAMP:20260421T091122Z
DESCRIPTION:Stadiumi
DTSTART:20111126T150000
DTEND:20111126T165500
LOCATION:Gjirokaster\,
SUMMARY:Kategoria 1 2011-12 :Burreli - Elbasani
END:VEVENT
BEGIN:VEVENT
UID:20260421T111122CEST-3679B9USVb@146.185.150.6
DTSTAMP:20260421T091122Z
DESCRIPTION:Stadiumi
DTSTART:20111204T143000
DTEND:20111204T162500
LOCATION:Gjirokaster\,
SUMMARY:Kategoria 1 2011-12 :Burreli - Besa
END:VEVENT
BEGIN:VEVENT
UID:20260421T111122CEST-3682TFLAM9@146.185.150.6
DTSTAMP:20260421T091122Z
DESCRIPTION:Stadiumi
DTSTART:20111218T140000
DTEND:20111218T155500
LOCATION:Gjirokaster\,
SUMMARY:Kategoria 1 2011-12 :Iliria - Burreli
END:VEVENT
BEGIN:VEVENT
UID:20260421T111122CEST-3697EchIv1@146.185.150.6
DTSTAMP:20260421T091122Z
DESCRIPTION:Stadiumi
DTSTART:20111224T140000
DTEND:20111224T155500
LOCATION:Gjirokaster\,
SUMMARY:Kategoria 1 2011-12 :Burreli - Gramshi
END:VEVENT
BEGIN:VEVENT
UID:20260421T111122CEST-3700dP4JAz@146.185.150.6
DTSTAMP:20260421T091122Z
DESCRIPTION:Stadiumi i Qytetit Ersekë
DTSTART:20111228T140000
DTEND:20111228T155500
LOCATION:Ersekë\,
SUMMARY:Kategoria 1 2011-12 :Gramozi - Burreli
END:VEVENT
BEGIN:VEVENT
UID:20260421T111122CEST-3702zcu8mI@146.185.150.6
DTSTAMP:20260421T091122Z
DESCRIPTION:Stadiumi i Qytetit Ersekë
DTSTART:20120211T163000
DTEND:20120211T182500
LOCATION:Ersekë\,
SUMMARY:Kategoria 1 2011-12 :Ada - Burreli
END:VEVENT
BEGIN:VEVENT
UID:20260421T111122CEST-3705FWKu2I@146.185.150.6
DTSTAMP:20260421T091122Z
DESCRIPTION:Stadiumi i Qytetit Ersekë
DTSTART:20120225T163000
DTEND:20120225T182500
LOCATION:Ersekë\,
SUMMARY:Kategoria 1 2011-12 :Burreli - Kukësi
END:VEVENT
BEGIN:VEVENT
UID:20260421T111122CEST-37324DFewN@146.185.150.6
DTSTAMP:20260421T091122Z
DESCRIPTION:Stadiumi i Qytetit Ersekë
DTSTART:20120303T163000
DTEND:20120303T182500
LOCATION:Ersekë\,
SUMMARY:Kategoria 1 2011-12 :Mamurras - Burreli
END:VEVENT
BEGIN:VEVENT
UID:20260421T111122CEST-37378VvxU1@146.185.150.6
DTSTAMP:20260421T091122Z
DESCRIPTION:Stadiumi i Qytetit Ersekë
DTSTART:20120310T163000
DTEND:20120310T182500
LOCATION:Ersekë\,
SUMMARY:Kategoria 1 2011-12 :Burreli - Vlora
END:VEVENT
BEGIN:VEVENT
UID:20260421T111122CEST-3740ZUd5J1@146.185.150.6
DTSTAMP:20260421T091122Z
DESCRIPTION:Stadiumi i Qytetit Ersekë
DTSTART:20120317T163000
DTEND:20120317T182500
LOCATION:Ersekë\,
SUMMARY:Kategoria 1 2011-12 :Himara - Burreli
END:VEVENT
BEGIN:VEVENT
UID:20260421T111122CEST-3742rR4maZ@146.185.150.6
DTSTAMP:20260421T091122Z
DESCRIPTION:Stadiumi i Qytetit Ersekë
DTSTART:20120324T163000
DTEND:20120324T182500
LOCATION:Ersekë\,
SUMMARY:Kategoria 1 2011-12 :Burreli - Skrapari
END:VEVENT
BEGIN:VEVENT
UID:20260421T111122CEST-3745SVcpZm@146.185.150.6
DTSTAMP:20260421T091122Z
DESCRIPTION:Stadiumi 'Brian Filipi' - Lezhë
DTSTART:20120331T163000
DTEND:20120331T182500
LOCATION:Lezhë\,
SUMMARY:Kategoria 1 2011-12 :Beselidhja - Burreli
END:VEVENT
BEGIN:VEVENT
UID:20260421T111122CEST-3748kZuL17@146.185.150.6
DTSTAMP:20260421T091122Z
DESCRIPTION:Stadiumi 'Brian Filipi' - Lezhë
DTSTART:20120404T163000
DTEND:20120404T182500
LOCATION:Lezhë\,
SUMMARY:Kategoria 1 2011-12 :Burreli - Luftetari
END:VEVENT
BEGIN:VEVENT
UID:20260421T111122CEST-3751ao5fdR@146.185.150.6
DTSTAMP:20260421T091122Z
DESCRIPTION:Stadiumi 'Loni Papuçiu' - Fier
DTSTART:20120407T163000
DTEND:20120407T182500
LOCATION:Fier\,
SUMMARY:Kategoria 1 2011-12 :Lushnja - Burreli
END:VEVENT
BEGIN:VEVENT
UID:20260421T111122CEST-37578vr3Pp@146.185.150.6
DTSTAMP:20260421T091122Z
DESCRIPTION:Stadiumi 'Loni Papuçiu' - Fier
DTSTART:20120415T170000
DTEND:20120415T185500
LOCATION:Fier\,
SUMMARY:Kategoria 1 2011-12 :Burreli - Butrinti
END:VEVENT
BEGIN:VEVENT
UID:20260421T111122CEST-3762kraPVM@146.185.150.6
DTSTAMP:20260421T091122Z
DESCRIPTION:Stadiumi 'Ruzhdi Bizhuta' - Elbasan
DTSTART:20120418T163000
DTEND:20120418T182500
LOCATION:Elbasan\,
SUMMARY:Kategoria 1 2011-12 :Elbasani - Burreli
END:VEVENT
BEGIN:VEVENT
UID:20260421T111122CEST-3766etBwRK@146.185.150.6
DTSTAMP:20260421T091122Z
DESCRIPTION:Stadiumi 'Besa' - Kavaja
DTSTART:20120422T170000
DTEND:20120422T185500
LOCATION:Kavaje\,
SUMMARY:Kategoria 1 2011-12 :Besa - Burreli
END:VEVENT
BEGIN:VEVENT
UID:20260421T111122CEST-3771d0NavV@146.185.150.6
DTSTAMP:20260421T091122Z
DESCRIPTION:Stadiumi 'Besa' - Kavaja
DTSTART:20120428T170000
DTEND:20120428T185500
LOCATION:Kavaje\,
SUMMARY:Kategoria 1 2011-12 :Burreli - Iliria
END:VEVENT
BEGIN:VEVENT
UID:20260421T111122CEST-3774x8eEON@146.185.150.6
DTSTAMP:20260421T091122Z
DESCRIPTION:Stadiumi Gramsh
DTSTART:20120506T180000
DTEND:20120506T195500
LOCATION:Gramsh\,
SUMMARY:Kategoria 1 2011-12 :Gramshi - Burreli
END:VEVENT
BEGIN:VEVENT
UID:20260421T111122CEST-3777o87ouF@146.185.150.6
DTSTAMP:20260421T091122Z
DESCRIPTION:Stadiumi Gramsh
DTSTART:20120512T163000
DTEND:20120512T182500
LOCATION:Gramsh\,
SUMMARY:Kategoria 1 2011-12 :Burreli - Gramozi
END:VEVENT
END:VCALENDAR
