﻿BEGIN:VCALENDAR
PRODID:-//146.185.150.6//NONSGML iCalcreator 2.6//
VERSION:2.0
BEGIN:VEVENT
UID:20260421T103745CEST-6034HHEdaR@146.185.150.6
DTSTAMP:20260421T083745Z
DESCRIPTION:
DTSTART:20170909T170000
DTEND:20170909T184500
LOCATION:
SUMMARY:Kategoria Superiore 2017-18 :Kukësi - Kamza
END:VEVENT
BEGIN:VEVENT
UID:20260421T103745CEST-6038hKB9Eg@146.185.150.6
DTSTAMP:20260421T083745Z
DESCRIPTION:
DTSTART:20170918T170000
DTEND:20170918T184500
LOCATION:
SUMMARY:Kategoria Superiore 2017-18 :Kamza - Skenderbeu
END:VEVENT
BEGIN:VEVENT
UID:20260421T103745CEST-60428k5bAi@146.185.150.6
DTSTAMP:20260421T083745Z
DESCRIPTION:Stadiumi 'Loni Papuçiu' - Fier
DTSTART:20170923T150000
DTEND:20170923T164500
LOCATION:Fier\,
SUMMARY:Kategoria Superiore 2017-18 :Lushnja - Kamza
END:VEVENT
BEGIN:VEVENT
UID:20260421T103745CEST-6046FjvvJ3@146.185.150.6
DTSTAMP:20260421T083745Z
DESCRIPTION:Stadiumi 'Loni Papuçiu' - Fier
DTSTART:20171001T150000
DTEND:20171001T164500
LOCATION:Fier\,
SUMMARY:Kategoria Superiore 2017-18 :Kamza - Teuta
END:VEVENT
BEGIN:VEVENT
UID:20260421T103745CEST-6051ujKBvi@146.185.150.6
DTSTAMP:20260421T083745Z
DESCRIPTION:Stadiumi
DTSTART:20171012T150000
DTEND:20171012T164500
LOCATION:Gjirokaster\,
SUMMARY:Kategoria Superiore 2017-18 :Luftetari - Kamza
END:VEVENT
BEGIN:VEVENT
UID:20260421T103745CEST-6054gWBHnC@146.185.150.6
DTSTAMP:20260421T083745Z
DESCRIPTION:Stadiumi
DTSTART:20171016T150000
DTEND:20171016T164500
LOCATION:Gjirokaster\,
SUMMARY:Kategoria Superiore 2017-18 :Kamza - Vllaznia
END:VEVENT
BEGIN:VEVENT
UID:20260421T103745CEST-6058JW7ux1@146.185.150.6
DTSTAMP:20260421T083745Z
DESCRIPTION:Stadiumi 'Flamurtari' - Vlorë
DTSTART:20171022T180000
DTEND:20171022T194500
LOCATION:Vlore\,
SUMMARY:Kategoria Superiore 2017-18 :Flamurtari - Kamza
END:VEVENT
BEGIN:VEVENT
UID:20260421T103745CEST-6062SzlEx9@146.185.150.6
DTSTAMP:20260421T083745Z
DESCRIPTION:Fusha Sportive Laç
DTSTART:20171030T150000
DTEND:20171030T164500
LOCATION:Laç\,
SUMMARY:Kategoria Superiore 2017-18 :Laci - Kamza
END:VEVENT
BEGIN:VEVENT
UID:20260421T103745CEST-6065WJoUnV@146.185.150.6
DTSTAMP:20260421T083745Z
DESCRIPTION:Fusha Sportive Laç
DTSTART:20171104T150000
DTEND:20171104T164500
LOCATION:Laç\,
SUMMARY:Kategoria Superiore 2017-18 :Kamza - Partizani
END:VEVENT
BEGIN:VEVENT
UID:20260421T103745CEST-6069UXZRSv@146.185.150.6
DTSTAMP:20260421T083745Z
DESCRIPTION:Fusha Sportive Laç
DTSTART:20171116T150000
DTEND:20171116T164500
LOCATION:Laç\,
SUMMARY:Kategoria Superiore 2017-18 :Kamza - Kukësi
END:VEVENT
BEGIN:VEVENT
UID:20260421T103745CEST-6073WoJdnG@146.185.150.6
DTSTAMP:20260421T083745Z
DESCRIPTION:Stadiumi 'Skënderbeu'
DTSTART:20171119T180000
DTEND:20171119T194500
LOCATION:Korçë\,
SUMMARY:Kategoria Superiore 2017-18 :Skenderbeu - Kamza
END:VEVENT
BEGIN:VEVENT
UID:20260421T103745CEST-6076PnJ9wt@146.185.150.6
DTSTAMP:20260421T083745Z
DESCRIPTION:Stadiumi 'Skënderbeu'
DTSTART:20171126T150000
DTEND:20171126T164500
LOCATION:Korçë\,
SUMMARY:Kategoria Superiore 2017-18 :Kamza - Lushnja
END:VEVENT
BEGIN:VEVENT
UID:20260421T103745CEST-6080UZKSXS@146.185.150.6
DTSTAMP:20260421T083745Z
DESCRIPTION:Stadiumi 'Loro Boriçi' - Shkodër
DTSTART:20171202T150000
DTEND:20171202T164500
LOCATION:E851 Shkoderi\, Albania Stadiumi Loro Boriçi\,  Shkoder
SUMMARY:Kategoria Superiore 2017-18 :Teuta - Kamza
END:VEVENT
BEGIN:VEVENT
UID:20260421T103745CEST-6084ZDckal@146.185.150.6
DTSTAMP:20260421T083745Z
DESCRIPTION:Stadiumi 'Loro Boriçi' - Shkodër
DTSTART:20171210T140000
DTEND:20171210T154500
LOCATION:E851 Shkoderi\, Albania Stadiumi Loro Boriçi\,  Shkoder
SUMMARY:Kategoria Superiore 2017-18 :Kamza - Luftetari
END:VEVENT
BEGIN:VEVENT
UID:20260421T103745CEST-6088klX1xi@146.185.150.6
DTSTAMP:20260421T083745Z
DESCRIPTION:Stadiumi 'Loro Boriçi' - Shkodër
DTSTART:20171216T140000
DTEND:20171216T154500
LOCATION:E851 Shkoderi\, Albania Stadiumi Loro Boriçi\,  Shkoder
SUMMARY:Kategoria Superiore 2017-18 :Vllaznia - Kamza
END:VEVENT
BEGIN:VEVENT
UID:20260421T103745CEST-6092l3fFxk@146.185.150.6
DTSTAMP:20260421T083745Z
DESCRIPTION:Stadiumi 'Loro Boriçi' - Shkodër
DTSTART:20171222T140000
DTEND:20171222T154500
LOCATION:E851 Shkoderi\, Albania Stadiumi Loro Boriçi\,  Shkoder
SUMMARY:Kategoria Superiore 2017-18 :Kamza - Flamurtari
END:VEVENT
BEGIN:VEVENT
UID:20260421T103745CEST-6096sinPEu@146.185.150.6
DTSTAMP:20260421T083745Z
DESCRIPTION:Stadiumi 'Loro Boriçi' - Shkodër
DTSTART:20180126T150000
DTEND:20180126T164500
LOCATION:E851 Shkoderi\, Albania Stadiumi Loro Boriçi\,  Shkoder
SUMMARY:Kategoria Superiore 2017-18 :Kamza - Laci
END:VEVENT
BEGIN:VEVENT
UID:20260421T103745CEST-6100WzJurv@146.185.150.6
DTSTAMP:20260421T083745Z
DESCRIPTION:Stadiumi Kombetar 'Qemal Stafa' - Tirana
DTSTART:20180204T170000
DTEND:20180204T184500
LOCATION:Tiranë\, Shqipëria (Stadiumi Qemal Stafa)\,  Tirana
SUMMARY:Kategoria Superiore 2017-18 :Partizani - Kamza
END:VEVENT
BEGIN:VEVENT
UID:20260421T103745CEST-6103lIlL8R@146.185.150.6
DTSTAMP:20260421T083745Z
DESCRIPTION:Stadiumi Kombetar 'Qemal Stafa' - Tirana
DTSTART:20180210T150000
DTEND:20180210T164500
LOCATION:Tiranë\, Shqipëria (Stadiumi Qemal Stafa)\,  Tirana
SUMMARY:Kategoria Superiore 2017-18 :Kukësi - Kamza
END:VEVENT
BEGIN:VEVENT
UID:20260421T103745CEST-6107SBkIL4@146.185.150.6
DTSTAMP:20260421T083745Z
DESCRIPTION:Stadiumi Kombetar 'Qemal Stafa' - Tirana
DTSTART:20180218T150000
DTEND:20180218T164500
LOCATION:Tiranë\, Shqipëria (Stadiumi Qemal Stafa)\,  Tirana
SUMMARY:Kategoria Superiore 2017-18 :Kamza - Skenderbeu
END:VEVENT
BEGIN:VEVENT
UID:20260421T103745CEST-6114iAl9Op@146.185.150.6
DTSTAMP:20260421T083745Z
DESCRIPTION:Stadiumi 'Loni Papuçiu' - Fier
DTSTART:20180224T150000
DTEND:20180224T164500
LOCATION:Fier\,
SUMMARY:Kategoria Superiore 2017-18 :Lushnja - Kamza
END:VEVENT
BEGIN:VEVENT
UID:20260421T103745CEST-6119PT70xM@146.185.150.6
DTSTAMP:20260421T083745Z
DESCRIPTION:Stadiumi 'Loni Papuçiu' - Fier
DTSTART:20180228T150000
DTEND:20180228T164500
LOCATION:Fier\,
SUMMARY:Kategoria Superiore 2017-18 :Kamza - Teuta
END:VEVENT
BEGIN:VEVENT
UID:20260421T103745CEST-612229GT3i@146.185.150.6
DTSTAMP:20260421T083745Z
DESCRIPTION:Stadiumi
DTSTART:20180305T150000
DTEND:20180305T164500
LOCATION:Gjirokaster\,
SUMMARY:Kategoria Superiore 2017-18 :Luftetari - Kamza
END:VEVENT
BEGIN:VEVENT
UID:20260421T103745CEST-6127kv9SvO@146.185.150.6
DTSTAMP:20260421T083745Z
DESCRIPTION:Stadiumi Kamza
DTSTART:20180310T150000
DTEND:20180310T164500
LOCATION:Tiranë\,
SUMMARY:Kategoria Superiore 2017-18 :Kamza - Vllaznia
END:VEVENT
BEGIN:VEVENT
UID:20260421T103745CEST-6131ux1E53@146.185.150.6
DTSTAMP:20260421T083745Z
DESCRIPTION:Stadiumi 'Flamurtari' - Vlorë
DTSTART:20180314T180000
DTEND:20180314T194500
LOCATION:Vlore\,
SUMMARY:Kategoria Superiore 2017-18 :Flamurtari - Kamza
END:VEVENT
BEGIN:VEVENT
UID:20260421T103745CEST-6136KWIwag@146.185.150.6
DTSTAMP:20260421T083745Z
DESCRIPTION:Fusha Sportive Laç
DTSTART:20180318T150000
DTEND:20180318T164500
LOCATION:Laç\,
SUMMARY:Kategoria Superiore 2017-18 :Laci - Kamza
END:VEVENT
BEGIN:VEVENT
UID:20260421T103745CEST-6141GVsvSH@146.185.150.6
DTSTAMP:20260421T083745Z
DESCRIPTION:Fusha Sportive Laç
DTSTART:20180401T150000
DTEND:20180401T164500
LOCATION:Laç\,
SUMMARY:Kategoria Superiore 2017-18 :Kamza - Partizani
END:VEVENT
BEGIN:VEVENT
UID:20260421T103745CEST-6145VIRHhm@146.185.150.6
DTSTAMP:20260421T083745Z
DESCRIPTION:Fusha Sportive Laç
DTSTART:20180408T150000
DTEND:20180408T164500
LOCATION:Laç\,
SUMMARY:Kategoria Superiore 2017-18 :Kamza - Kukësi
END:VEVENT
BEGIN:VEVENT
UID:20260421T103745CEST-6150TAm7dO@146.185.150.6
DTSTAMP:20260421T083745Z
DESCRIPTION:Stadiumi 'Skënderbeu'
DTSTART:20180414T200000
DTEND:20180414T214500
LOCATION:Korçë\,
SUMMARY:Kategoria Superiore 2017-18 :Skenderbeu - Kamza
END:VEVENT
BEGIN:VEVENT
UID:20260421T103745CEST-6155vNbNLk@146.185.150.6
DTSTAMP:20260421T083745Z
DESCRIPTION:Stadiumi 'Skënderbeu'
DTSTART:20180421T170000
DTEND:20180421T184500
LOCATION:Korçë\,
SUMMARY:Kategoria Superiore 2017-18 :Kamza - Lushnja
END:VEVENT
BEGIN:VEVENT
UID:20260421T103745CEST-6159VVKatL@146.185.150.6
DTSTAMP:20260421T083745Z
DESCRIPTION:Stadiumi 'Niko Dovana' - Durrës
DTSTART:20180429T170000
DTEND:20180429T184500
LOCATION:DurrÃ«s\,
SUMMARY:Kategoria Superiore 2017-18 :Teuta - Kamza
END:VEVENT
BEGIN:VEVENT
UID:20260421T103745CEST-6163uvVVi0@146.185.150.6
DTSTAMP:20260421T083745Z
DESCRIPTION:Stadiumi 'Niko Dovana' - Durrës
DTSTART:20180505T170000
DTEND:20180505T184500
LOCATION:DurrÃ«s\,
SUMMARY:Kategoria Superiore 2017-18 :Kamza - Luftetari
END:VEVENT
BEGIN:VEVENT
UID:20260421T103745CEST-6168cOGR9L@146.185.150.6
DTSTAMP:20260421T083745Z
DESCRIPTION:Stadiumi 'Loro Boriçi' - Shkodër
DTSTART:20180509T200000
DTEND:20180509T214500
LOCATION:E851 Shkoderi\, Albania Stadiumi Loro Boriçi\,  Shkoder
SUMMARY:Kategoria Superiore 2017-18 :Vllaznia - Kamza
END:VEVENT
BEGIN:VEVENT
UID:20260421T103745CEST-6172mvmCuC@146.185.150.6
DTSTAMP:20260421T083745Z
DESCRIPTION:Stadiumi 'Loro Boriçi' - Shkodër
DTSTART:20180513T180000
DTEND:20180513T194500
LOCATION:E851 Shkoderi\, Albania Stadiumi Loro Boriçi\,  Shkoder
SUMMARY:Kategoria Superiore 2017-18 :Kamza - Flamurtari
END:VEVENT
BEGIN:VEVENT
UID:20260421T103745CEST-6177pUeH0e@146.185.150.6
DTSTAMP:20260421T083745Z
DESCRIPTION:Stadiumi 'Loro Boriçi' - Shkodër
DTSTART:20180519T170000
DTEND:20180519T184500
LOCATION:E851 Shkoderi\, Albania Stadiumi Loro Boriçi\,  Shkoder
SUMMARY:Kategoria Superiore 2017-18 :Kamza - Laci
END:VEVENT
BEGIN:VEVENT
UID:20260421T103745CEST-6181uNNiTn@146.185.150.6
DTSTAMP:20260421T083745Z
DESCRIPTION:Stadiumi Kombetar 'Qemal Stafa' - Tirana
DTSTART:20180523T180000
DTEND:20180523T194500
LOCATION:Tiranë\, Shqipëria (Stadiumi Qemal Stafa)\,  Tirana
SUMMARY:Kategoria Superiore 2017-18 :Partizani - Kamza
END:VEVENT
END:VCALENDAR
